BEGIN:VCALENDAR
VERSION:2.0
PRODID:-//WP EVENT Manager Ical//NONSGML Events//EN
CALSCALE:GREGORIAN
BEGIN:VTIMEZONE
TZID:Asia/Kolkata
BEGIN:STANDARD
DTSTART:19700101T000000
TZOFFSETFROM:+0530
TZOFFSETTO:+0530
END:STANDARD
END:VTIMEZONE
BEGIN:VEVENT
UID:69e4f07c93de5@bahafit.com
DTSTAMP:20260419T151052Z
DTSTART;TZID=Asia/Kolkata:20250118T060000
DTEND;TZID=Asia/Kolkata:20250228T120000
LOCATION:Online
SUMMARY:Move Bahamas
DESCRIPTION:
END:VEVENT
END:VCALENDAR