BEGIN:VCALENDAR
VERSION:2.0
PRODID:-//WP EVENT Manager Ical//NONSGML Events//EN
CALSCALE:GREGORIAN
BEGIN:VTIMEZONE
TZID:Asia/Kolkata
BEGIN:STANDARD
DTSTART:19700101T000000
TZOFFSETFROM:+0530
TZOFFSETTO:+0530
END:STANDARD
END:VTIMEZONE
BEGIN:VEVENT
UID:69e4f0e568bcf@bahafit.com
DTSTAMP:20260419T151237Z
DTSTART;TZID=Asia/Kolkata:20250426T050000
DTEND;TZID=Asia/Kolkata:20250426T080000
LOCATION:University of The Bahamas
SUMMARY:UBFit – Fun, Run, Walk, Push, Roll
DESCRIPTION:
END:VEVENT
END:VCALENDAR