BEGIN:VCALENDAR
VERSION:2.0
PRODID:-//WP EVENT Manager Ical//NONSGML Events//EN
CALSCALE:GREGORIAN
BEGIN:VTIMEZONE
TZID:Asia/Kolkata
BEGIN:STANDARD
DTSTART:19700101T000000
TZOFFSETFROM:+0530
TZOFFSETTO:+0530
END:STANDARD
END:VTIMEZONE
BEGIN:VEVENT
UID:69e4f12fa9350@bahafit.com
DTSTAMP:20260419T151351Z
DTSTART;TZID=Asia/Kolkata:20250110T063000
DTEND;TZID=Asia/Kolkata:20250228T023145
LOCATION:Online
SUMMARY:Wholistic Lifestyle: Fun Run Walk
DESCRIPTION:
END:VEVENT
END:VCALENDAR